BEGIN:VCALENDAR
PRODID:-//eluceo/ical//2.0/EN
VERSION:2.0
CALSCALE:GREGORIAN
BEGIN:VEVENT
UID:052fca9037b74f8bba63652593ff8903
DTSTAMP:20260422T211219Z
SUMMARY:PJ Storytime - Barnyard Purim
DESCRIPTION:Jewish Federation of Central Massachusetts\nCalendar\nhttps://j
 ewishcentralmass.org/calendar/pj-storytime-barnyard-purim\n\nPJ Storytime 
 - Barnyard Purim\n\nSaturday\, February 26 at 10:45 am - Zoom
DTSTART;TZID=America/New_York:20220226T104500
DTEND;TZID=America/New_York:20220226T114500
END:VEVENT
END:VCALENDAR
