BEGIN:VCALENDAR
PRODID:-//eluceo/ical//2.0/EN
VERSION:2.0
CALSCALE:GREGORIAN
BEGIN:VEVENT
UID:08b064faa8462f8c7a6a28d94e18efde
DTSTAMP:20260422T051452Z
SUMMARY:PJ Pray 'n Play Passover at JCC
DESCRIPTION:Jewish Federation of Central Massachusetts\nCalendar\nhttps://j
 ewishcentralmass.org/calendar/pj-pray-n-play-passover-at-jcc\n\nPJ Pray 'n
  Play Passover at JCC\n\n10:15 am
DTSTART;TZID=America/New_York:20250329T101500
DTEND;TZID=America/New_York:20250329T121500
END:VEVENT
END:VCALENDAR
