BEGIN:VCALENDAR
PRODID:-//eluceo/ical//2.0/EN
VERSION:2.0
CALSCALE:GREGORIAN
BEGIN:VEVENT
UID:1a72f6edd683b5495a5e2778152a699b
DTSTAMP:20260421T180601Z
SUMMARY:PJ Pray n Play Israel
DESCRIPTION:Jewish Federation of Central Massachusetts\nCalendar\nhttps://j
 ewishcentralmass.org/calendar/pj-pray-n-play-israel\n\nPJ Pray n Play Isra
 el at JCC\n\n10:15 am
DTSTART;TZID=America/New_York:20250503T101500
DTEND;TZID=America/New_York:20250503T121500
END:VEVENT
END:VCALENDAR
