BEGIN:VCALENDAR
PRODID:-//eluceo/ical//2.0/EN
VERSION:2.0
CALSCALE:GREGORIAN
BEGIN:VEVENT
UID:391593da7b1528793f011abfaa4528ba
DTSTAMP:20260420T223152Z
SUMMARY:PJ & PJOW Pottery Painting Party
DESCRIPTION:Jewish Federation of Central Massachusetts\nCalendar\nhttps://j
 ewishcentralmass.org/calendar/pj-pjow-pottery-painting-party\n\nPJ & PJOW 
 Pottery Painting Party\n\nLet’s create our own Elijah’s Cup for our Pa
 ssover Seder Table\n\nWHEN: Sunday\, March 27th\, 3:00 pm\n\nWHERE: Clayti
 me in Shrewsbury\n\n**COST PER FAMILY: $25 for first child\; $20.00 each a
 dditional child. Includes wine goblet\, paint\, and glazing RSVP\n\nBY MAR
 CH 1st: www.jfcm.org/elijahcup\n\nFor covid safety precautions\, we ask th
 at only one parent per family be presen
DTSTART;TZID=America/New_York:20220327T150000
DTEND;TZID=America/New_York:20220327T163000
END:VEVENT
END:VCALENDAR
