BEGIN:VCALENDAR
PRODID:-//eluceo/ical//2.0/EN
VERSION:2.0
CALSCALE:GREGORIAN
BEGIN:VEVENT
UID:719610bbb4816ab136deb3209ec455af
DTSTAMP:20260425T122403Z
SUMMARY:PJ / PJOW Field Day
DESCRIPTION:Jewish Federation of Central Massachusetts\nCalendar\nhttps://j
 ewishcentralmass.org/calendar/pj-pjow-field-day\n\nPJ Library / PJOW FAMI
 LY Field Day
DTSTART;TZID=America/New_York:20180610T110000
DTEND;TZID=America/New_York:20180610T140000
END:VEVENT
END:VCALENDAR
