BEGIN:VCALENDAR
PRODID:-//eluceo/ical//2.0/EN
VERSION:2.0
CALSCALE:GREGORIAN
BEGIN:VEVENT
UID:e61df5005486c978cc89ddde4e8f6a0e
DTSTAMP:20260421T000733Z
SUMMARY:PJ & PJOW Event with Todd Blechner
DESCRIPTION:Jewish Federation of Central Massachusetts\nCalendar\nhttps://j
 ewishcentralmass.org/calendar/pj-pjow-event\n\nPJ Library and PJOW Present
 s  in partnership with the Shrewsbury Public Library: "How to Help Your 
 Child Build Confidence and Improve in School”  with Todd Blechner* on S
 eptember 9 at 6:30pm.
DTSTART;TZID=America/New_York:20200909T183000
DTEND;TZID=America/New_York:20200909T203000
END:VEVENT
END:VCALENDAR
