BEGIN:VCALENDAR
PRODID:-//eluceo/ical//2.0/EN
VERSION:2.0
CALSCALE:GREGORIAN
BEGIN:VEVENT
UID:a9269d450ca4f7fdb274115d3f4a2ffa
DTSTAMP:20260423T124509Z
SUMMARY:PJ / PJOW / Tribe Shavuot Hike
DESCRIPTION:Jewish Federation of Central Massachusetts\nCalendar\nhttps://j
 ewishcentralmass.org/calendar/pj-pjow--tribe-shavuot-hike\n\nPJ / PJOW / T
 ribe Shavuot Hike\n\n10:00 am\, Broad Meadow Brook\, Worcester
DTSTART;TZID=America/New_York:20190609T103000
DTEND;TZID=America/New_York:20190609T123000
END:VEVENT
END:VCALENDAR
