BEGIN:VCALENDAR
PRODID:-//eluceo/ical//2.0/EN
VERSION:2.0
CALSCALE:GREGORIAN
BEGIN:VEVENT
UID:9906b7a03dc1560f565982ecc4ac69f7
DTSTAMP:20260422T064606Z
SUMMARY:PJ Neighborhood Dessert Havdalah Northboro
DESCRIPTION:Jewish Federation of Central Massachusetts\nCalendar\nhttps://j
 ewishcentralmass.org/calendar/pj-neighborhood-dessert-havdalah-northboro\n
 \nPJ Neighborhood Dessert Havdalah\, May 6th\, 6:30 pm\, Northboro
DTSTART;TZID=America/New_York:20170506T183000
DTEND;TZID=America/New_York:20170506T203000
END:VEVENT
END:VCALENDAR
