BEGIN:VCALENDAR
PRODID:-//eluceo/ical//2.0/EN
VERSION:2.0
CALSCALE:GREGORIAN
BEGIN:VEVENT
UID:dcf00cb161740cfaf91702cc6ff75b40
DTSTAMP:20260421T130204Z
SUMMARY:PJ LibraryTakes a Hike at Broad Meadow
DESCRIPTION:Jewish Federation of Central Massachusetts\nCalendar\nhttps://j
 ewishcentralmass.org/calendar/pj-librarytakes-a-hike-at-broad-meadow\n\nMa
 y 21st\, 12:30-4 pm\, PJ LibraryTakes a Hike at Broad Meadow\, Worcester
DTSTART;TZID=America/New_York:20170521T123000
DTEND;TZID=America/New_York:20170521T160000
END:VEVENT
END:VCALENDAR
