BEGIN:VCALENDAR
PRODID:-//eluceo/ical//2.0/EN
VERSION:2.0
CALSCALE:GREGORIAN
BEGIN:VEVENT
UID:84ebbb5b2359b2d32b0adb196d9f741d
DTSTAMP:20260422T022549Z
SUMMARY:PJ Library's: The Mitten String
DESCRIPTION:Jewish Federation of Central Massachusetts\nCalendar\nhttps://j
 ewishcentralmass.org/calendar/pj-librarys-the-mitten-string\n\nPJ Library'
 s: The Mitten String
DTSTART;TZID=America/New_York:20160228T150000
DTEND;TZID=America/New_York:20160228T163000
END:VEVENT
END:VCALENDAR
