BEGIN:VCALENDAR
PRODID:-//eluceo/ical//2.0/EN
VERSION:2.0
CALSCALE:GREGORIAN
BEGIN:VEVENT
UID:d91fb08f77a5adcb69b07ac5b94e2152
DTSTAMP:20260420T130457Z
SUMMARY:PJ Library’s Community -wide B’nai Mitzvah Celebration
DESCRIPTION:Jewish Federation of Central Massachusetts\nCalendar\nhttps://j
 ewishcentralmass.org/calendar/pj-librarys-community-wide-bnai-mitzvah-cele
 bration\n\nPJ Library’s Community -wide B’nai Mitzvah Celebration\n\n
  \n\nJune 12\, 2022 \n\nTime - TBD
DTSTART;TZID=America/New_York:20220612T100000
DTEND;TZID=America/New_York:20220612T150000
END:VEVENT
END:VCALENDAR
