BEGIN:VCALENDAR
PRODID:-//eluceo/ical//2.0/EN
VERSION:2.0
CALSCALE:GREGORIAN
BEGIN:VEVENT
UID:878d62ba1379423cc96e560d0b755c8d
DTSTAMP:20260421T075333Z
SUMMARY:PJ Library/PJOW Northern County Connect shabbat Brunch in the Sukka
 h
DESCRIPTION:Jewish Federation of Central Massachusetts\nCalendar\nhttps://j
 ewishcentralmass.org/calendar/pj-librarypjow-northern-county-connect-shabb
 at-brunch-in-the-sukkah\n\nPJ Library/PJOW Northern County Connect shabbat
  Brunch in the Sukkah\, Saturday\, September 30th\, 10 am
DTSTART;TZID=America/New_York:20230930T100000
DTEND;TZID=America/New_York:20230930T120000
END:VEVENT
END:VCALENDAR
