BEGIN:VCALENDAR
PRODID:-//eluceo/ical//2.0/EN
VERSION:2.0
CALSCALE:GREGORIAN
BEGIN:VEVENT
UID:8bf85d7ab7196d0573110d0472136ee4
DTSTAMP:20260423T192251Z
SUMMARY:PJ library/PJOW Northern County Connect Apple Picking
DESCRIPTION:Jewish Federation of Central Massachusetts\nCalendar\nhttps://j
 ewishcentralmass.org/calendar/pj-librarypjow-northern-county-connect-apple
 -picking\n\nPJ library/PJOW Northern County Connect Apple Picking Sunday\,
  September 10\, 10:00 am\, Red Apple\, Philipston
DTSTART;TZID=America/New_York:20230910T100000
DTEND;TZID=America/New_York:20230910T120000
END:VEVENT
END:VCALENDAR
