BEGIN:VCALENDAR
PRODID:-//eluceo/ical//2.0/EN
VERSION:2.0
CALSCALE:GREGORIAN
BEGIN:VEVENT
UID:2b179cb472b139df1ab21d43ef55e546
DTSTAMP:20260424T192319Z
SUMMARY:PJ Library/PJOW Bravehearts Game
DESCRIPTION:Jewish Federation of Central Massachusetts\nCalendar\nhttps://j
 ewishcentralmass.org/calendar/pj-librarypjow-bravehearts-game\n\nPJ Librar
 y/PJOW  Goes to the Bravehearts Baseball Game  Sunday\, June 18th\, 4:05
  pm\, Fitton Field\, Worcester.
DTSTART;TZID=America/New_York:20170618T160500
DTEND;TZID=America/New_York:20170618T190000
END:VEVENT
END:VCALENDAR
