BEGIN:VCALENDAR
PRODID:-//eluceo/ical//2.0/EN
VERSION:2.0
CALSCALE:GREGORIAN
BEGIN:VEVENT
UID:5775a641f039aa2f97799cc85a6ff06a
DTSTAMP:20260422T090606Z
SUMMARY:PJ Library Weekday Playgroup 0-3yrs1
DESCRIPTION:Jewish Federation of Central Massachusetts\nCalendar\nhttps://j
 ewishcentralmass.org/calendar/pj-library-weekday-playgroup-0-3yrs1\n\nNEW!
 ! PJ Library Weekday Playgroup for Babies/Toddlers 0-3 years old.\n\nInter
 est meeting on Wednesday\, September 26th\, 9:30am at the FED/JCC Building
 \n\n633 Salisbury St\; 2nd floor babysitting room
DTSTART;TZID=America/New_York:20180926T093000
DTEND;TZID=America/New_York:20180926T113000
END:VEVENT
END:VCALENDAR
