BEGIN:VCALENDAR
PRODID:-//eluceo/ical//2.0/EN
VERSION:2.0
CALSCALE:GREGORIAN
BEGIN:VEVENT
UID:18329a6f688014e8e509cc4a9a4296e5
DTSTAMP:20260422T164734Z
SUMMARY:PJ Library visits Whitinsville Library for Hanukkah
DESCRIPTION:Jewish Federation of Central Massachusetts\nCalendar\nhttps://j
 ewishcentralmass.org/calendar/pj-library-visits-whitinsville-library-for-h
 anukkah\n\nDecember 27 at Noon - PJ Library visits Whitinsville Library fo
 r Hanukkah\n\n 
DTSTART;TZID=America/New_York:20191227T120000
DTEND;TZID=America/New_York:20191227T150000
END:VEVENT
END:VCALENDAR
