BEGIN:VCALENDAR
PRODID:-//eluceo/ical//2.0/EN
VERSION:2.0
CALSCALE:GREGORIAN
BEGIN:VEVENT
UID:7abdff964e19f0e267db46837bf60823
DTSTAMP:20260422T101015Z
SUMMARY:PJ Library Virtual Storytime with Lori\, March 2022
DESCRIPTION:Jewish Federation of Central Massachusetts\nCalendar\nhttps://j
 ewishcentralmass.org/calendar/pj-library-virtual-storytime-with-lori-march
 -2022\n\nPJ Library Virtual Storytime with Lori\, March 26th\, 10:45 am
DTSTART;TZID=America/New_York:20220326T104500
DTEND;TZID=America/New_York:20220326T120000
END:VEVENT
END:VCALENDAR
