BEGIN:VCALENDAR
PRODID:-//eluceo/ical//2.0/EN
VERSION:2.0
CALSCALE:GREGORIAN
BEGIN:VEVENT
UID:63ed152c10ac16d6a3d3f766bae0e30d
DTSTAMP:20260423T161734Z
SUMMARY:PJ Library: Sweet Seder at BI
DESCRIPTION:Jewish Federation of Central Massachusetts\nCalendar\nhttps://j
 ewishcentralmass.org/calendar/pj-library-sweet-seder-at-bi\n\n4/6 @ 1:00 p
 m PJ Sweet Seder     PJ/BI   @ BI
DTSTART;TZID=America/New_York:20250406T130000
DTEND;TZID=America/New_York:20250406T150000
END:VEVENT
END:VCALENDAR
