BEGIN:VCALENDAR
PRODID:-//eluceo/ical//2.0/EN
VERSION:2.0
CALSCALE:GREGORIAN
BEGIN:VEVENT
UID:b8828b7e3e3681994acfd9659b076175
DTSTAMP:20260424T214936Z
SUMMARY:PJ Library Shabbat Dinner
DESCRIPTION:Jewish Federation of Central Massachusetts\nCalendar\nhttps://j
 ewishcentralmass.org/calendar/pj-library-shabbat-dinner\n\nPJ Library Shab
 bat Dinner\n\nFriday\, June 9th\, 5:30 at Worcester JCC
DTSTART;TZID=America/New_York:20230609T173000
DTEND;TZID=America/New_York:20230609T193000
END:VEVENT
END:VCALENDAR
