BEGIN:VCALENDAR
PRODID:-//eluceo/ical//2.0/EN
VERSION:2.0
CALSCALE:GREGORIAN
BEGIN:VEVENT
UID:30a12f84b9c2fded0b6f08ddd1f92123
DTSTAMP:20260423T133045Z
SUMMARY:PJ Library Purim Play and Celebrate with Beth Tikvah Synagogue
DESCRIPTION:Jewish Federation of Central Massachusetts\nCalendar\nhttps://j
 ewishcentralmass.org/calendar/pj-library-purim-play-and-celebrate-with-bet
 h-tikvah-synagogue\n\nPJ Library Purim Play and Celebrate with Beth Tikvah
  Synagogue\n\n10:30 am - 12:00 pm\n 
DTSTART;TZID=America/New_York:20250309T103000
DTEND;TZID=America/New_York:20250309T120000
END:VEVENT
END:VCALENDAR
