BEGIN:VCALENDAR
PRODID:-//eluceo/ical//2.0/EN
VERSION:2.0
CALSCALE:GREGORIAN
BEGIN:VEVENT
UID:6f5c1033dfcc8d5a8f31e605cc637a61
DTSTAMP:20260421T052613Z
SUMMARY:PJ Library Newcomers/ Rosh Hashanah Event
DESCRIPTION:Jewish Federation of Central Massachusetts\nCalendar\nhttps://j
 ewishcentralmass.org/calendar/pj-library-newcomers-rosh-hashanah-event\n\n
 Sunday \, Sept 11\, 2:30-4:30\, PJ Library Newcomers/ Rosh Hashanah Event\
 n\n 
DTSTART;TZID=America/New_York:20220911T143000
DTEND;TZID=America/New_York:20220911T163000
END:VEVENT
END:VCALENDAR
