BEGIN:VCALENDAR
PRODID:-//eluceo/ical//2.0/EN
VERSION:2.0
CALSCALE:GREGORIAN
BEGIN:VEVENT
UID:f4c85836a4a2f1b17e0a6e27360254f4
DTSTAMP:20260424T002657Z
SUMMARY:PJ Library Neighborhood Havdalah
DESCRIPTION:Jewish Federation of Central Massachusetts\nCalendar\nhttps://j
 ewishcentralmass.org/calendar/pj-library-neighborhood-havdalah\n\nPJ Libra
 ry Neighborhood Havdalah at Rachel Lemansky's house.
DTSTART;TZID=America/New_York:20161210T183000
DTEND;TZID=America/New_York:20161210T203000
END:VEVENT
END:VCALENDAR
