BEGIN:VCALENDAR
PRODID:-//eluceo/ical//2.0/EN
VERSION:2.0
CALSCALE:GREGORIAN
BEGIN:VEVENT
UID:afaf2e3650700359097acfcc20266a11
DTSTAMP:20260422T153309Z
SUMMARY:PJ Library Mom's Day Gift Fair
DESCRIPTION:Jewish Federation of Central Massachusetts\nCalendar\nhttps://j
 ewishcentralmass.org/calendar/pj-library-moms-day-gift-fair\n\nPJ Library 
 Mom's Day Gift Fair on May 1\, 9:00 am-3:00 pm at the JCC
DTSTART;TZID=America/New_York:20220501T090000
DTEND;TZID=America/New_York:20220501T150000
END:VEVENT
END:VCALENDAR
