BEGIN:VCALENDAR
PRODID:-//eluceo/ical//2.0/EN
VERSION:2.0
CALSCALE:GREGORIAN
BEGIN:VEVENT
UID:86b6cbdedda338744cb800575b2d2c67
DTSTAMP:20260422T141254Z
SUMMARY:PJ/PJOW High Holiday Celebration
DESCRIPTION:Jewish Federation of Central Massachusetts\nCalendar\nhttps://j
 ewishcentralmass.org/calendar/pj-library-high-holiday-celebration\n\nPJ Li
 brary/PJOW High Holiday Celebration\n\n2:30 - 5:00 pm
DTSTART;TZID=America/New_York:20240922T143000
DTEND;TZID=America/New_York:20240922T170000
END:VEVENT
END:VCALENDAR
