BEGIN:VCALENDAR
PRODID:-//eluceo/ical//2.0/EN
VERSION:2.0
CALSCALE:GREGORIAN
BEGIN:VEVENT
UID:9770970b17ef43059ee71b208fae1f81
DTSTAMP:20260423T175932Z
SUMMARY:PJ Library Hanukkah Party 2022
DESCRIPTION:Jewish Federation of Central Massachusetts\nCalendar\nhttps://j
 ewishcentralmass.org/calendar/pj-library-hanukkah-party-2022\n\nDecember 1
 1th\, 3:00 pm\, PJ Library Hanukkah Party at Shrewsbury Library.\n\n 
DTSTART;TZID=America/New_York:20221211T150000
DTEND;TZID=America/New_York:20221211T170000
END:VEVENT
END:VCALENDAR
