BEGIN:VCALENDAR
PRODID:-//eluceo/ical//2.0/EN
VERSION:2.0
CALSCALE:GREGORIAN
BEGIN:VEVENT
UID:742a427d7b7b6423bc37adb40aecea96
DTSTAMP:20260422T013256Z
SUMMARY:PJ Library Hamantaschen Baking & Story time for Families
DESCRIPTION:Jewish Federation of Central Massachusetts\nCalendar\nhttps://j
 ewishcentralmass.org/calendar/pj-library-hamantaschen-baking-story-time-fo
 r-families\n\nhttps://www.facebook.com/events/1703051449921593/
DTSTART;TZID=America/New_York:20150301T143000
DTEND;TZID=America/New_York:20150301T163000
END:VEVENT
END:VCALENDAR
