BEGIN:VCALENDAR
PRODID:-//eluceo/ical//2.0/EN
VERSION:2.0
CALSCALE:GREGORIAN
BEGIN:VEVENT
UID:7f64e2e499d567af9de3dbd713df702d
DTSTAMP:20260422T041303Z
SUMMARY:PJ Library Goes to Shabbatniks at BT with CBS
DESCRIPTION:Jewish Federation of Central Massachusetts\nCalendar\nhttps://j
 ewishcentralmass.org/calendar/pj-library-goes-to-shabbatniks-at-bt-with-cb
 s\n\nPJ Library Goes to Shabbatniks at Beth Tikvah Synagogue with Congrega
 tion B’nai Shalom\, Weekly Friday Pre-School program\, 9:30-11:00 am (in
 -person drop-off)\n\nClick here to register
DTSTART;TZID=America/New_York:20211008T093000
DTEND;TZID=America/New_York:20211008T110000
END:VEVENT
END:VCALENDAR
