BEGIN:VCALENDAR
PRODID:-//eluceo/ical//2.0/EN
VERSION:2.0
CALSCALE:GREGORIAN
BEGIN:VEVENT
UID:e81852f3622ee31c57cae1ee72bae3e8
DTSTAMP:20260424T074047Z
SUMMARY:PJ Library Goes to Sababa Shabbat at CAA
DESCRIPTION:Jewish Federation of Central Massachusetts\nCalendar\nhttps://j
 ewishcentralmass.org/calendar/pj-library-goes-to-sababa-shabbat-at-caa\n\n
 PJ Library Goes to Sababa Shabbat at CAA\n\n11:00 am
DTSTART;TZID=America/New_York:20240921T110000
DTEND;TZID=America/New_York:20240921T130000
END:VEVENT
END:VCALENDAR
