BEGIN:VCALENDAR
PRODID:-//eluceo/ical//2.0/EN
VERSION:2.0
CALSCALE:GREGORIAN
BEGIN:VEVENT
UID:74273d670a0386ed24c7f147fb81fa57
DTSTAMP:20260422T053947Z
SUMMARY:PJ Library Goes to Pray 'n Play with Temple Emanuel Sinai - Oct19
DESCRIPTION:Jewish Federation of Central Massachusetts\nCalendar\nhttps://j
 ewishcentralmass.org/calendar/pj-library-goes-to-pray-n-play-with-temple-e
 manuel-sinai-oct19\n\nPJ Library Goes to Pray 'n Play with Temple Emanuel 
 Sinai\n\n9-11am
DTSTART;TZID=America/New_York:20191005T090000
DTEND;TZID=America/New_York:20191005T110000
END:VEVENT
END:VCALENDAR
