BEGIN:VCALENDAR
PRODID:-//eluceo/ical//2.0/EN
VERSION:2.0
CALSCALE:GREGORIAN
BEGIN:VEVENT
UID:6592018f1f1d08d20b8106e73cd49a47
DTSTAMP:20260422T112251Z
SUMMARY:PJ Library Goes to Pray 'n Play with Temple Emanuel Sinai - Nov19
DESCRIPTION:Jewish Federation of Central Massachusetts\nCalendar\nhttps://j
 ewishcentralmass.org/calendar/pj-library-goes-to-pray-n-play-with-temple-e
 manuel-sinai-nov19\n\nPJ Library Goes to Pray 'n Play with Temple Emanuel 
 Sinai\n\n9-11am
DTSTART;TZID=America/New_York:20191102T090000
DTEND;TZID=America/New_York:20191102T110000
END:VEVENT
END:VCALENDAR
