BEGIN:VCALENDAR
PRODID:-//eluceo/ical//2.0/EN
VERSION:2.0
CALSCALE:GREGORIAN
BEGIN:VEVENT
UID:666326b8e89d9dcabf40f951ac63adf9
DTSTAMP:20260420T100548Z
SUMMARY:PJ Library Goes to Pray 'n Play with Temple Emanuel Sinai - Jan20
DESCRIPTION:Jewish Federation of Central Massachusetts\nCalendar\nhttps://j
 ewishcentralmass.org/calendar/pj-library-goes-to-pray-n-play-with-temple-e
 manuel-sinai-jan20\n\nPJ Library Goes to Pray 'n Play with Temple Emanuel 
 Sinai \n\n9-11am
DTSTART;TZID=America/New_York:20200104T090000
DTEND;TZID=America/New_York:20200104T110000
END:VEVENT
END:VCALENDAR
