BEGIN:VCALENDAR
PRODID:-//eluceo/ical//2.0/EN
VERSION:2.0
CALSCALE:GREGORIAN
BEGIN:VEVENT
UID:9b8e829a5fdd118e3674678400b274d9
DTSTAMP:20260421T013726Z
SUMMARY:PJ Library Goes to Pray 'n Play with Temple Emanuel Sinai - Feb20
DESCRIPTION:Jewish Federation of Central Massachusetts\nCalendar\nhttps://j
 ewishcentralmass.org/calendar/pj-library-goes-to-pray-n-play-with-temple-e
 manuel-sinai-feb20\n\nPJ Library Goes to Pray 'n Play with Temple Emanuel 
 Sinai\n\n9-11am
DTSTART;TZID=America/New_York:20200201T090000
DTEND;TZID=America/New_York:20200201T110000
END:VEVENT
END:VCALENDAR
