BEGIN:VCALENDAR
PRODID:-//eluceo/ical//2.0/EN
VERSION:2.0
CALSCALE:GREGORIAN
BEGIN:VEVENT
UID:0a52cddb3d130b9cb8cff50aa502c56a
DTSTAMP:20260423T205733Z
SUMMARY:PJ Library Goes to Pray 'n Play for the HH
DESCRIPTION:Jewish Federation of Central Massachusetts\nCalendar\nhttps://j
 ewishcentralmass.org/calendar/pj-library-goes-to-pray-n-play-for-the-hh\n\
 nPJ Library Goes to Pray 'n Play for the HH\n\n10:15 am
DTSTART;TZID=America/New_York:20241005T101500
DTEND;TZID=America/New_York:20241005T121500
END:VEVENT
END:VCALENDAR
