BEGIN:VCALENDAR
PRODID:-//eluceo/ical//2.0/EN
VERSION:2.0
CALSCALE:GREGORIAN
BEGIN:VEVENT
UID:b2a1ebbc93eda1b2c21836e93d15b5c7
DTSTAMP:20260421T120705Z
SUMMARY:PJ Library Goes to Pardes
DESCRIPTION:Jewish Federation of Central Massachusetts\nCalendar\nhttps://j
 ewishcentralmass.org/calendar/pj-library-goes-to-pardes_feb\n\nPJ Library 
 Goes to Pardes
DTSTART;TZID=America/New_York:20160227T101500
DTEND;TZID=America/New_York:20160227T110000
END:VEVENT
END:VCALENDAR
