BEGIN:VCALENDAR
PRODID:-//eluceo/ical//2.0/EN
VERSION:2.0
CALSCALE:GREGORIAN
BEGIN:VEVENT
UID:335dc4745d66b806f785cbe6b2934053
DTSTAMP:20260422T094248Z
SUMMARY:PJ Library Goes to Pardes
DESCRIPTION:Jewish Federation of Central Massachusetts\nCalendar\nhttps://j
 ewishcentralmass.org/calendar/pj-library-goes-to-pardes_March\n\nPJ Librar
 y Goes to Pardes
DTSTART;TZID=America/New_York:20160326T101500
DTEND;TZID=America/New_York:20160326T110000
END:VEVENT
END:VCALENDAR
