BEGIN:VCALENDAR
PRODID:-//eluceo/ical//2.0/EN
VERSION:2.0
CALSCALE:GREGORIAN
BEGIN:VEVENT
UID:af767e2cf1d09309bcd59b2f669191c1
DTSTAMP:20260423T003035Z
SUMMARY:PJ Library Goes to Beth Tikvah for Tot Shabbat
DESCRIPTION:Jewish Federation of Central Massachusetts\nCalendar\nhttps://j
 ewishcentralmass.org/calendar/pj-library-goes-to-beth-tikvah-for-tot-shabb
 at\n\nPJ Library Goes to Beth Tikvah for Tot Shabbat \n\n\n10:00 - 11:30 
 am
DTSTART;TZID=America/New_York:20250322T100000
DTEND;TZID=America/New_York:20250322T113000
END:VEVENT
END:VCALENDAR
