BEGIN:VCALENDAR
PRODID:-//eluceo/ical//2.0/EN
VERSION:2.0
CALSCALE:GREGORIAN
BEGIN:VEVENT
UID:6843656c32e9442571618e40e6ca29e7
DTSTAMP:20260421T150638Z
SUMMARY:PJ Library Get Ready for Summer Reading with Congregation Beth Isra
 el
DESCRIPTION:Jewish Federation of Central Massachusetts\nCalendar\nhttps://j
 ewishcentralmass.org/calendar/pj-library-get-ready-for-summer-reading-with
 -congregation-beth-israel\n\nPJ Library Get Ready for Summer Reading with 
 Congregation Beth Israel  \n\n6/4 10- noon in Beth Israel Library
DTSTART;TZID=America/New_York:20230604T100000
DTEND;TZID=America/New_York:20230604T120000
END:VEVENT
END:VCALENDAR
