BEGIN:VCALENDAR
PRODID:-//eluceo/ical//2.0/EN
VERSION:2.0
CALSCALE:GREGORIAN
BEGIN:VEVENT
UID:7bbaa28d80accc4a05d8fd9e3ea4555d
DTSTAMP:20260420T222549Z
SUMMARY:PJ Library Friendraiser at the Park - July 2023
DESCRIPTION:Jewish Federation of Central Massachusetts\nCalendar\nhttps://j
 ewishcentralmass.org/calendar/pj-library-friendraiser-at-the-park-july-202
 3\n\nPJ Library Friendraiser at the Park
DTSTART;TZID=America/New_York:20230709T100000
DTEND;TZID=America/New_York:20230709T120000
END:VEVENT
END:VCALENDAR
