BEGIN:VCALENDAR
PRODID:-//eluceo/ical//2.0/EN
VERSION:2.0
CALSCALE:GREGORIAN
BEGIN:VEVENT
UID:f280eed72b7bc6474a9e1883742bcbc6
DTSTAMP:20260421T013022Z
SUMMARY:PJ Library Friendraiser at the Park - August 2023
DESCRIPTION:Jewish Federation of Central Massachusetts\nCalendar\nhttps://j
 ewishcentralmass.org/calendar/pj-library-friendraiser-at-the-park-august-2
 023\n\nPJ Library Friendraiser at the Park\n\nSunday\, August 13 at 10:00\
 n\nDean Park\, Shrewsbury
DTSTART;TZID=America/New_York:20230813T100000
DTEND;TZID=America/New_York:20230813T120000
END:VEVENT
END:VCALENDAR
