BEGIN:VCALENDAR
PRODID:-//eluceo/ical//2.0/EN
VERSION:2.0
CALSCALE:GREGORIAN
BEGIN:VEVENT
UID:02d20cde4609082c99db057f2977a827
DTSTAMP:20260424T002617Z
SUMMARY:PJ Library End of Summer Friendraiser
DESCRIPTION:Jewish Federation of Central Massachusetts\nCalendar\nhttps://j
 ewishcentralmass.org/calendar/pj-library-end-of-summer-friendraiser\n\nPJ 
 Library End of Summer Friendraiser Meetup for Rosh Hashanah: Apple Picking
  at Douglas Orchard and Farm\n\n2:30 pm
DTSTART;TZID=America/New_York:20230910T143000
DTEND;TZID=America/New_York:20230910T163000
END:VEVENT
END:VCALENDAR
