BEGIN:VCALENDAR
PRODID:-//eluceo/ical//2.0/EN
VERSION:2.0
CALSCALE:GREGORIAN
BEGIN:VEVENT
UID:f44b15fad3913d71371978b4da160b60
DTSTAMP:20260423T034949Z
SUMMARY:PJ Library  E-Z Summer Family Meet-Ups - Aug 8
DESCRIPTION:Jewish Federation of Central Massachusetts\nCalendar\nhttps://j
 ewishcentralmass.org/calendar/pj-library-e-z-summer-family-meet-ups-aug-8\
 n\nPJ Library  E-Z Summer Family Meet-Ups\n\nSunday\, August 8th\, 9:30 a
 m at Elm Park Playground in Worcester (recommended for families with child
 ren under 6.  Older siblings welcome).
DTSTART;TZID=America/New_York:20210808T093000
DTEND;TZID=America/New_York:20210808T113000
END:VEVENT
END:VCALENDAR
