BEGIN:VCALENDAR
PRODID:-//eluceo/ical//2.0/EN
VERSION:2.0
CALSCALE:GREGORIAN
BEGIN:VEVENT
UID:65f6f14abd99570290a05067932bb14c
DTSTAMP:20260423T050221Z
SUMMARY:PJ Library  E-Z Summer Family Meet-Ups - Aug 29
DESCRIPTION:Jewish Federation of Central Massachusetts\nCalendar\nhttps://j
 ewishcentralmass.org/calendar/pj-library-e-z-summer-family-meet-ups-aug-29
 \n\nPJ Library  E-Z Summer Family Meet-Ups\n\nSunday\, August 29th\, 9:30
  am at Tougas Farm\, Northboro for peach and apple picking\, playground an
 d petting zoo.  Meet up by General Store.  All PJ/PJOW  families welcom
 e
DTSTART;TZID=America/New_York:20210829T093000
DTEND;TZID=America/New_York:20210829T113000
END:VEVENT
END:VCALENDAR
