BEGIN:VCALENDAR
PRODID:-//eluceo/ical//2.0/EN
VERSION:2.0
CALSCALE:GREGORIAN
BEGIN:VEVENT
UID:a2db2679b4bbea1622d1066c148062f6
DTSTAMP:20260421T165942Z
SUMMARY:PJ Library/Chabad Candle Lighting
DESCRIPTION:Jewish Federation of Central Massachusetts\nCalendar\nhttps://j
 ewishcentralmass.org/calendar/pj-library-chabad-candle-lighting\n\nPJ Libr
 ary/Chabad Candle Lighting
DTSTART;TZID=America/New_York:20131127T170000
DTEND;TZID=America/New_York:20131127T173000
END:VEVENT
END:VCALENDAR
