BEGIN:VCALENDAR
PRODID:-//eluceo/ical//2.0/EN
VERSION:2.0
CALSCALE:GREGORIAN
BEGIN:VEVENT
UID:b9f3dd27c7a490aa45988f764f9c0d79
DTSTAMP:20260423T031235Z
SUMMARY:PJ Library “Books and Bagels” with Beth Israel
DESCRIPTION:Jewish Federation of Central Massachusetts\nCalendar\nhttps://j
 ewishcentralmass.org/calendar/pj-library-books-and-bagels-with-beth-israel
 4\n\nPJ Library “Books and Bagels” with Beth Israel\, Beth Israel (Lib
 rary)\, Worcester\n\n9:30-11:00
DTSTART;TZID=America/New_York:20170319T093000
DTEND;TZID=America/New_York:20170319T110000
END:VEVENT
END:VCALENDAR
