BEGIN:VCALENDAR
PRODID:-//eluceo/ical//2.0/EN
VERSION:2.0
CALSCALE:GREGORIAN
BEGIN:VEVENT
UID:1259fe93b7ace6f8899d66affa2504ea
DTSTAMP:20260422T071015Z
SUMMARY:PJ Library “Books and Bagels” with Beth Israel
DESCRIPTION:Jewish Federation of Central Massachusetts\nCalendar\nhttps://j
 ewishcentralmass.org/calendar/pj-library-books-and-bagels-with-beth-israel
 \n\nPJ Library “Books and Bagels” with Beth Israel
DTSTART;TZID=America/New_York:20160918T093000
DTEND;TZID=America/New_York:20160918T110000
END:VEVENT
END:VCALENDAR
