BEGIN:VCALENDAR
PRODID:-//eluceo/ical//2.0/EN
VERSION:2.0
CALSCALE:GREGORIAN
BEGIN:VEVENT
UID:fa3531b78a3d28b8e41ca9ea2a78f14c
DTSTAMP:20260421T000307Z
SUMMARY:PJ Library Bagels 'n Books with Beth Israel - June '20
DESCRIPTION:Jewish Federation of Central Massachusetts\nCalendar\nhttps://j
 ewishcentralmass.org/calendar/pj-library-bagels-n-books-with-beth-israel-j
 une-20\n\nPJ Library Bagels 'n Books with Beth Israel
DTSTART;TZID=America/New_York:20200614T100000
DTEND;TZID=America/New_York:20200614T113000
END:VEVENT
END:VCALENDAR
