BEGIN:VCALENDAR
PRODID:-//eluceo/ical//2.0/EN
VERSION:2.0
CALSCALE:GREGORIAN
BEGIN:VEVENT
UID:1ec2c70e39772349a14ad87fa4d3c4a6
DTSTAMP:20260422T190342Z
SUMMARY:PJ Library Bagels 'n Books with Beth Israel - Dec '19
DESCRIPTION:Jewish Federation of Central Massachusetts\nCalendar\nhttps://j
 ewishcentralmass.org/calendar/pj-library-bagels-n-books-with-beth-israel-d
 ec-19\n\nPJ Library Bagels 'n Books with Beth Israel
DTSTART;TZID=America/New_York:20191201T100000
DTEND;TZID=America/New_York:20191201T113000
END:VEVENT
END:VCALENDAR
