BEGIN:VCALENDAR
PRODID:-//eluceo/ical//2.0/EN
VERSION:2.0
CALSCALE:GREGORIAN
BEGIN:VEVENT
UID:c7a92b7a9ac83dee1db02788044d54c6
DTSTAMP:20260422T030934Z
SUMMARY:PJ Library Bagels & Books March'19
DESCRIPTION:Jewish Federation of Central Massachusetts\nCalendar\nhttps://j
 ewishcentralmass.org/calendar/pj-library-bagels-books-march19\n\nPJ Librar
 y Bagels & Books at Congregation Beth Israel from 10:00-11:30am.\n\n \n\n
 March 17th\n\nApril 14th
DTSTART;TZID=America/New_York:20190317T100000
DTEND;TZID=America/New_York:20190317T113000
END:VEVENT
END:VCALENDAR
