BEGIN:VCALENDAR
PRODID:-//eluceo/ical//2.0/EN
VERSION:2.0
CALSCALE:GREGORIAN
BEGIN:VEVENT
UID:afd691e4c0e0c7d4a0387ebe065c699e
DTSTAMP:20260424T222152Z
SUMMARY:PJ Library Bagels & Books Dec18
DESCRIPTION:Jewish Federation of Central Massachusetts\nCalendar\nhttps://j
 ewishcentralmass.org/calendar/pj-library-bagels-books-dec18\n\nPJ Library 
 Bagels & Books at Congregation Beth Israel from 10:00-11:30am.\n\n \n\nDe
 cember 16th\n\nMarch 17th\n\nApril 14th
DTSTART;TZID=America/New_York:20181216T100000
DTEND;TZID=America/New_York:20181216T113000
END:VEVENT
END:VCALENDAR
