BEGIN:VCALENDAR
PRODID:-//eluceo/ical//2.0/EN
VERSION:2.0
CALSCALE:GREGORIAN
BEGIN:VEVENT
UID:ec680137311308f01b4a5db688564728
DTSTAMP:20260422T173114Z
SUMMARY:PJ Library Bagels & Books
DESCRIPTION:Jewish Federation of Central Massachusetts\nCalendar\nhttps://j
 ewishcentralmass.org/calendar/pj-library-bagels-books\n\nPJ Library Bagels
  & Books at Congregation Beth Israel from 10:00-11:30am.\n\n \n\nOctober 
 28th\n\nDecember 16th\n\nMarch 17th\n\nApril 14th
DTSTART;TZID=America/New_York:20181028T100000
DTEND;TZID=America/New_York:20181028T113000
END:VEVENT
END:VCALENDAR
